BEGIN:VCALENDAR
VERSION:2.0
PRODID:-//Amalio Gran - ECPv6.15.20//NONSGML v1.0//EN
CALSCALE:GREGORIAN
METHOD:PUBLISH
X-WR-CALNAME:Amalio Gran
X-ORIGINAL-URL:http://amaliogran.com
X-WR-CALDESC:Eventos para Amalio Gran
REFRESH-INTERVAL;VALUE=DURATION:PT1H
X-Robots-Tag:noindex
X-PUBLISHED-TTL:PT1H
BEGIN:VTIMEZONE
TZID:Europe/Madrid
BEGIN:DAYLIGHT
TZOFFSETFROM:+0100
TZOFFSETTO:+0200
TZNAME:CEST
DTSTART:20240331T010000
END:DAYLIGHT
BEGIN:STANDARD
TZOFFSETFROM:+0200
TZOFFSETTO:+0100
TZNAME:CET
DTSTART:20241027T010000
END:STANDARD
BEGIN:DAYLIGHT
TZOFFSETFROM:+0100
TZOFFSETTO:+0200
TZNAME:CEST
DTSTART:20250330T010000
END:DAYLIGHT
BEGIN:STANDARD
TZOFFSETFROM:+0200
TZOFFSETTO:+0100
TZNAME:CET
DTSTART:20251026T010000
END:STANDARD
BEGIN:DAYLIGHT
TZOFFSETFROM:+0100
TZOFFSETTO:+0200
TZNAME:CEST
DTSTART:20260329T010000
END:DAYLIGHT
BEGIN:STANDARD
TZOFFSETFROM:+0200
TZOFFSETTO:+0100
TZNAME:CET
DTSTART:20261025T010000
END:STANDARD
END:VTIMEZONE
BEGIN:VEVENT
DTSTART;TZID=Europe/Madrid:20251005T180000
DTEND;TZID=Europe/Madrid:20251005T190000
DTSTAMP:20260423T050038
CREATED:20250919T091314Z
LAST-MODIFIED:20250919T091314Z
UID:1435-1759687200-1759690800@amaliogran.com
SUMMARY:IV Ruta Poético- Botánica con Poetas Locales
DESCRIPTION:El Portal Amalio Gran\, en colaboración con la Sede Universitaria de Villena\, organiza la cuarta edición de la Ruta Poético-Botánica\, que se celebrará el domingo 5 de octubre en el Parque de los Pajaritos (Plaza Martínez Olivencia). La principal novedad de este año es que los poemas han sido escritos por poetas locales\, quienes recitarán personalmente sus obras junto a los árboles que han inspirado cada creación. Entre los autores participantes se encuentran Esther Albert Los Santos\, Alberto Bernal\, José J. Tomás (Bil)\, Ángeles Corella Castellanos\, Carlos Forte\, Mimi Gendra Doménech\, Pepa Navarro Ribera\, David Samoa y Patricia Tomás Sáez. Formulario de inscripción
URL:http://amaliogran.com/event/iv-ruta-poetico-botanica-con-poetas-locales/
ATTACH;FMTTYPE=image/jpeg:http://amaliogran.com/wp-content/uploads/2025/09/WhatsApp-Image-2025-09-19-at-08.15.53.jpeg
END:VEVENT
END:VCALENDAR